BEGIN:VCALENDAR
VERSION:2.0
PRODID:-//wp-events-plugin.com//7.2.3.1//EN
TZID:Europe/Berlin
X-WR-TIMEZONE:Europe/Berlin
BEGIN:VEVENT
UID:1427@un-hack-bar.de
DTSTART;TZID=Europe/Berlin:20190420T140000
DTEND;TZID=Europe/Berlin:20190420T153000
DTSTAMP:20190529T123538Z
URL:https://www.un-hack-bar.de/events/freifunk-in-unna/
SUMMARY:[UNHB] Vortrag: Freifunk in Unna
DESCRIPTION:[caption id="attachment_2708" align="aligncenter" width="300"] 
 Freifunk Unna[/caption]\n\nAlles über Technik\, Aufbau und Verfügbarkeit
  des offenen "Freifunk" Netzwerkes. Wir werden erfahren wie die aktuelle S
 erver-Infrastruktur aussieht\, wie man mitmachen kann und auch Fragen kön
 nen gestellt und hoffentlich auch beantwortet werden. Eine kleine Demonstr
 ation eines mobilen Freifunk-Knoten (per Akku und LTE betrieben) wird es e
 benfalls geben.
ATTACH;FMTTYPE=image/jpeg:https://www.un-hack-bar.de/wp-content/uploads/20
 19/05/unhb-aufkleber-klein.png
CATEGORIES:Vortrag &amp; Workshop
LOCATION:UN-Hack-Bar (Morgenstr.)\, Morgenstraße 6\, Unna\, 59423\, Deutsc
 hland
GEO:0.000000;0.000000
X-APPLE-STRUCTURED-LOCATION;VALUE=URI;X-ADDRESS=Morgenstraße 6\, Unna\, 59
 423\, Deutschland;X-APPLE-RADIUS=100;X-TITLE=UN-Hack-Bar (Morgenstr.):geo:
 0.000000,0.000000
END:VEVENT
BEGIN:VTIMEZONE
TZID:Europe/Berlin
X-LIC-LOCATION:Europe/Berlin
BEGIN:DAYLIGHT
DTSTART:20190331T030000
TZOFFSETFROM:+0100
TZOFFSETTO:+0200
TZNAME:CEST
END:DAYLIGHT
END:VTIMEZONE
END:VCALENDAR