BEGIN:VCALENDAR
VERSION:2.0
PRODID:-//wp-events-plugin.com//7.2.3.1//EN
TZID:Europe/Berlin
X-WR-TIMEZONE:Europe/Berlin
BEGIN:VEVENT
UID:1526@un-hack-bar.de
DTSTART;TZID=Europe/Berlin:20200209T110000
DTEND;TZID=Europe/Berlin:20200209T170000
DTSTAMP:20200104T173351Z
URL:https://www.un-hack-bar.de/events/naeh-workshop-1-20-in-der-un-hack-ba
 r/
SUMMARY:[UNHB] Näh-Workshop “1.20” in der UN-Hack-Bar
DESCRIPTION:Näh-Workshop “1.20”\nin der UN-Hack-Bar\nWir machen weiter
 !!!\n\nAm 09.02.2020 möchten wir gemeinsam mit Dir (wieder) die Nadeln ta
 nzen lassen. Komm mit Deiner Nähmaschine zu Deiner (nächsten) Außenmiss
 ion in die UN-Hack-Bar.\nAb 11 Uhr wollen wir mit dem Projekt "Kinderkleid
 ung" beginnen. Natürlich bist Du auch willkommen\, wenn Du ein anderes Pr
 ojekt im Sinn hast oder es Dir noch kurzfristig ausdenkst. \nWie schon zuv
 or bestehen keine Anforderungen an Vorkenntnissen der Teilnehmenden. \nIn
  der UN-Hack-Bar ist ausreichend Raum für 8 Personen und Nähmaschinen. W
 ir besitzen zwei Nähmaschinen die bei Bedarf zur Verfügung gestellt werd
 en können. Daher die Bitte von uns\, um vorherige Anmeldung.\nWann?: 09.0
 2.2019 von 11 - ca. 17 Uhr\nWo?: UN-Hack-Bar\, Morgenstraße 6 in Unna \n
 Bitte mitbringen: Nähmaschine und Material\nAnmeldung siehe unten\nFragen
  zum Workshop: info@un-hack-bar.de
ATTACH;FMTTYPE=image/jpeg:https://www.un-hack-bar.de/wp-content/uploads/20
 20/01/Nähworkshop.jpeg
CATEGORIES:Vortrag &amp; Workshop
LOCATION:UN-Hack-Bar (Morgenstr.)\, Morgenstraße 6\, Unna\, 59423\, Deutsc
 hland
GEO:0.000000;0.000000
X-APPLE-STRUCTURED-LOCATION;VALUE=URI;X-ADDRESS=Morgenstraße 6\, Unna\, 59
 423\, Deutschland;X-APPLE-RADIUS=100;X-TITLE=UN-Hack-Bar (Morgenstr.):geo:
 0.000000,0.000000
END:VEVENT
BEGIN:VTIMEZONE
TZID:Europe/Berlin
X-LIC-LOCATION:Europe/Berlin
BEGIN:STANDARD
DTSTART:20191027T020000
TZOFFSETFROM:+0200
TZOFFSETTO:+0100
TZNAME:CET
END:STANDARD
END:VTIMEZONE
END:VCALENDAR