BEGIN:VCALENDAR
VERSION:2.0
PRODID:-//wp-events-plugin.com//7.2.3.1//EN
TZID:Europe/Berlin
X-WR-TIMEZONE:Europe/Berlin
BEGIN:VEVENT
UID:2419@un-hack-bar.de
DTSTART;TZID=Europe/Berlin:20250918T200000
DTEND;TZID=Europe/Berlin:20250918T213000
DTSTAMP:20250217T073344Z
URL:https://www.un-hack-bar.de/events/plenum-der-un-hack-bar-2-2025-09-18/
SUMMARY:[UNHB] Plenum der UN-Hack-Bar
DESCRIPTION:Einmal im Monat haben wir unser Plenum\, in dem wir über div. 
 Themen sprechen über die wir als Gemeinschaft entscheiden wollen. Gäste 
 sind herzlich willkommen!\n\nDa Donnerstags meistens auch gekocht wird hab
 en wir entschieden das Plenum zu beginnen wenn das Essen auf die Teller ko
 mmt. Das hilft bei der Sache zu bleiben und gleichzeitig schnell mit dem P
 lenum "durch" zu sein. Sollte mal nicht gekocht werden geht es um ca. 20 U
 hr los.
LOCATION:UN-Hack-Bar (Hochstr.)\, Hochstraße 10\, Unna\, 59423\, Deutschla
 nd
X-APPLE-STRUCTURED-LOCATION;VALUE=URI;X-ADDRESS=Hochstraße 10\, Unna\, 594
 23\, Deutschland;X-APPLE-RADIUS=100;X-TITLE=UN-Hack-Bar (Hochstr.):geo:0,0
END:VEVENT
BEGIN:VTIMEZONE
TZID:Europe/Berlin
X-LIC-LOCATION:Europe/Berlin
BEGIN:DAYLIGHT
DTSTART:20250330T030000
TZOFFSETFROM:+0100
TZOFFSETTO:+0200
TZNAME:CEST
END:DAYLIGHT
END:VTIMEZONE
END:VCALENDAR